BEGIN:VCALENDAR
VERSION:2.0
PRODID:-//Disfruta Denia - ECPv6.15.20//NONSGML v1.0//EN
CALSCALE:GREGORIAN
METHOD:PUBLISH
X-ORIGINAL-URL:https://disfruta-denia.com
X-WR-CALDESC:Eventos para Disfruta Denia
REFRESH-INTERVAL;VALUE=DURATION:PT1H
X-Robots-Tag:noindex
X-PUBLISHED-TTL:PT1H
BEGIN:VTIMEZONE
TZID:Europe/Madrid
BEGIN:DAYLIGHT
TZOFFSETFROM:+0100
TZOFFSETTO:+0200
TZNAME:CEST
DTSTART:20250330T010000
END:DAYLIGHT
BEGIN:STANDARD
TZOFFSETFROM:+0200
TZOFFSETTO:+0100
TZNAME:CET
DTSTART:20251026T010000
END:STANDARD
BEGIN:DAYLIGHT
TZOFFSETFROM:+0100
TZOFFSETTO:+0200
TZNAME:CEST
DTSTART:20260329T010000
END:DAYLIGHT
BEGIN:STANDARD
TZOFFSETFROM:+0200
TZOFFSETTO:+0100
TZNAME:CET
DTSTART:20261025T010000
END:STANDARD
BEGIN:DAYLIGHT
TZOFFSETFROM:+0100
TZOFFSETTO:+0200
TZNAME:CEST
DTSTART:20270328T010000
END:DAYLIGHT
BEGIN:STANDARD
TZOFFSETFROM:+0200
TZOFFSETTO:+0100
TZNAME:CET
DTSTART:20271031T010000
END:STANDARD
END:VTIMEZONE
BEGIN:VEVENT
DTSTART;TZID=Europe/Madrid:20260405T140000
DTEND;TZID=Europe/Madrid:20260405T140000
DTSTAMP:20260420T193929
CREATED:20260331T071658Z
LAST-MODIFIED:20260331T071658Z
UID:10026876-1775397600-1775397600@disfruta-denia.com
SUMMARY:Concierto flamenco Teo Navarro guitarra española
DESCRIPTION:
URL:https://disfruta-denia.com/evento/concierto-flamenco-teo-navarro-guitarra-espanola/
LOCATION:Restaurante Mesa La Marina\, Puerto Dep. Denia\, Edificio B\, Local 1\, Dénia\, 03700\, España
CATEGORIES:Concierto,Música
ATTACH;FMTTYPE=image/jpeg:https://disfruta-denia.com/wp-content/uploads/2026/03/49713482-02b2-48f6-8de1-f2dec2368f23-1.jpg
END:VEVENT
BEGIN:VEVENT
DTSTART;TZID=Europe/Madrid:20260404T143000
DTEND;TZID=Europe/Madrid:20260404T173000
DTSTAMP:20260420T193929
CREATED:20260331T071524Z
LAST-MODIFIED:20260331T071524Z
UID:10026875-1775313000-1775323800@disfruta-denia.com
SUMMARY:Tardeo Sakura con música en vivo
DESCRIPTION:
URL:https://disfruta-denia.com/evento/tardeo-sakura-con-musica-en-vivo/
LOCATION:Restaurante Mesa La Marina\, Puerto Dep. Denia\, Edificio B\, Local 1\, Dénia\, 03700\, España
CATEGORIES:Concierto,DJ,Música,Tardeo
ATTACH;FMTTYPE=image/jpeg:https://disfruta-denia.com/wp-content/uploads/2026/03/be931084-39fc-43b4-9079-b45dad7c6313-1.jpg
END:VEVENT
BEGIN:VEVENT
DTSTART;TZID=Europe/Madrid:20260403T140000
DTEND;TZID=Europe/Madrid:20260403T140000
DTSTAMP:20260420T193929
CREATED:20260331T071306Z
LAST-MODIFIED:20260331T071312Z
UID:10026874-1775224800-1775224800@disfruta-denia.com
SUMMARY:Espectáculo Esencia Flamenca con bailaora
DESCRIPTION:
URL:https://disfruta-denia.com/evento/espectaculo-esencia-flamenca-con-bailaora/
LOCATION:Restaurante Mesa La Marina\, Puerto Dep. Denia\, Edificio B\, Local 1\, Dénia\, 03700\, España
CATEGORIES:Baile,Concierto,Música
ATTACH;FMTTYPE=image/jpeg:https://disfruta-denia.com/wp-content/uploads/2026/03/c5468bde-5677-43a3-84f0-d9d3544925ff-1.jpg
END:VEVENT
END:VCALENDAR