BEGIN:VCALENDAR
VERSION:2.0
PRODID:-//Disfruta Denia - ECPv6.15.20//NONSGML v1.0//EN
CALSCALE:GREGORIAN
METHOD:PUBLISH
X-ORIGINAL-URL:https://disfruta-denia.com
X-WR-CALDESC:Eventos para Disfruta Denia
REFRESH-INTERVAL;VALUE=DURATION:PT1H
X-Robots-Tag:noindex
X-PUBLISHED-TTL:PT1H
BEGIN:VTIMEZONE
TZID:Europe/Madrid
BEGIN:DAYLIGHT
TZOFFSETFROM:+0100
TZOFFSETTO:+0200
TZNAME:CEST
DTSTART:20220327T010000
END:DAYLIGHT
BEGIN:STANDARD
TZOFFSETFROM:+0200
TZOFFSETTO:+0100
TZNAME:CET
DTSTART:20221030T010000
END:STANDARD
BEGIN:DAYLIGHT
TZOFFSETFROM:+0100
TZOFFSETTO:+0200
TZNAME:CEST
DTSTART:20230326T010000
END:DAYLIGHT
BEGIN:STANDARD
TZOFFSETFROM:+0200
TZOFFSETTO:+0100
TZNAME:CET
DTSTART:20231029T010000
END:STANDARD
BEGIN:DAYLIGHT
TZOFFSETFROM:+0100
TZOFFSETTO:+0200
TZNAME:CEST
DTSTART:20240331T010000
END:DAYLIGHT
BEGIN:STANDARD
TZOFFSETFROM:+0200
TZOFFSETTO:+0100
TZNAME:CET
DTSTART:20241027T010000
END:STANDARD
BEGIN:DAYLIGHT
TZOFFSETFROM:+0100
TZOFFSETTO:+0200
TZNAME:CEST
DTSTART:20250330T010000
END:DAYLIGHT
BEGIN:STANDARD
TZOFFSETFROM:+0200
TZOFFSETTO:+0100
TZNAME:CET
DTSTART:20251026T010000
END:STANDARD
END:VTIMEZONE
BEGIN:VEVENT
DTSTART;TZID=Europe/Madrid:20240609T100000
DTEND;TZID=Europe/Madrid:20240609T123000
DTSTAMP:20260422T015710
CREATED:20240522T135505Z
LAST-MODIFIED:20240522T135505Z
UID:10018627-1717927200-1717936200@disfruta-denia.com
SUMMARY:Workshop de danza India
DESCRIPTION:El workshop es una invitación a sumergirnos en el maravilloso mundo de la danza India y su expresión!\nHaremos una introducción a la técnica del Abhinaya y exploraremos la narración y la inmersión en las nueve emociones de las artes Indias.\n\n\n\nInscripción previa:\n\n\n (+91) 6382161427\n sofiagonzalezherrador@gmail.com
URL:https://disfruta-denia.com/evento/workshop-de-danza-india/
LOCATION:Samsara Yaranda\, Camí Betlems\, 20\, Dénia\, 03700\, España
CATEGORIES:Taller
ATTACH;FMTTYPE=image/jpeg:https://disfruta-denia.com/wp-content/uploads/2024/05/danza-india.jpeg
END:VEVENT
BEGIN:VEVENT
DTSTART;TZID=Europe/Madrid:20231209T100000
DTEND;TZID=Europe/Madrid:20231209T100000
DTSTAMP:20260422T015710
CREATED:20231118T210424Z
LAST-MODIFIED:20231118T210424Z
UID:10014888-1702116000-1702116000@disfruta-denia.com
SUMMARY:Yoga & brunch
DESCRIPTION:¿Te apetece empezar el fin de semana de una manera diferente?\nPues reserva está fecha: Sábado 9 de Diciembre a las 10:00h\nEse día estaremos en SamsaraYaranda esperándote para compartir contigo esta experiencia.\n¿Te vienes? Escríbeme para reservar 🤗
URL:https://disfruta-denia.com/evento/yoga-brunch/
LOCATION:Samsara Yaranda\, Camí Betlems\, 20\, Dénia\, 03700\, España
CATEGORIES:Deporte,Yoga
ATTACH;FMTTYPE=image/png:https://disfruta-denia.com/wp-content/uploads/2023/11/1_20231118_214027_0000-e1700341401260.png
END:VEVENT
END:VCALENDAR